BEGIN:VCALENDAR
VERSION:2.0
PRODID:-//Diocese of Leeds: Justice and Peace Commission - ECPv6.15.20//NONSGML v1.0//EN
CALSCALE:GREGORIAN
METHOD:PUBLISH
X-WR-CALNAME:Diocese of Leeds: Justice and Peace Commission
X-ORIGINAL-URL:https://www.leedsjp.org.uk
X-WR-CALDESC:Events for Diocese of Leeds: Justice and Peace Commission
REFRESH-INTERVAL;VALUE=DURATION:PT1H
X-Robots-Tag:noindex
X-PUBLISHED-TTL:PT1H
BEGIN:VTIMEZONE
TZID:Europe/London
BEGIN:DAYLIGHT
TZOFFSETFROM:+0000
TZOFFSETTO:+0100
TZNAME:BST
DTSTART:20250330T010000
END:DAYLIGHT
BEGIN:STANDARD
TZOFFSETFROM:+0100
TZOFFSETTO:+0000
TZNAME:GMT
DTSTART:20251026T010000
END:STANDARD
BEGIN:DAYLIGHT
TZOFFSETFROM:+0000
TZOFFSETTO:+0100
TZNAME:BST
DTSTART:20260329T010000
END:DAYLIGHT
BEGIN:STANDARD
TZOFFSETFROM:+0100
TZOFFSETTO:+0000
TZNAME:GMT
DTSTART:20261025T010000
END:STANDARD
BEGIN:DAYLIGHT
TZOFFSETFROM:+0000
TZOFFSETTO:+0100
TZNAME:BST
DTSTART:20270328T010000
END:DAYLIGHT
BEGIN:STANDARD
TZOFFSETFROM:+0100
TZOFFSETTO:+0000
TZNAME:GMT
DTSTART:20271031T010000
END:STANDARD
END:VTIMEZONE
BEGIN:VEVENT
DTSTART;TZID=Europe/London:20260513T190000
DTEND;TZID=Europe/London:20260513T203000
DTSTAMP:20260422T201122
CREATED:20260421T175156Z
LAST-MODIFIED:20260421T175156Z
UID:13624-1778698800-1778704200@www.leedsjp.org.uk
SUMMARY:Hope in Turbulent Times - an online talk
DESCRIPTION:This is the Anthony Storey Memorial Lecture that is organised every year by the Middlesbrough Diocesan Justice & Peace Commission. \nThis year the lecture will be online and the speaker is John Battle\, our Chair. \nIf you would like to receive the zoom link for this lecture then please email bhungin@yahoo.co.uk
URL:https://www.leedsjp.org.uk/event/hope-in-turbulent-times-an-online-talk/
ATTACH;FMTTYPE=image/jpeg:https://www.leedsjp.org.uk/wp-content/uploads/2026/04/middlesbrough_diocese.jpg
END:VEVENT
END:VCALENDAR